BEGIN:VCALENDAR
VERSION:2.0
PRODID:-//Gather Natural - ECPv6.15.20//NONSGML v1.0//EN
CALSCALE:GREGORIAN
METHOD:PUBLISH
X-WR-CALNAME:Gather Natural
X-ORIGINAL-URL:https://gathernatural.org
X-WR-CALDESC:Events for Gather Natural
REFRESH-INTERVAL;VALUE=DURATION:PT1H
X-Robots-Tag:noindex
X-PUBLISHED-TTL:PT1H
BEGIN:VTIMEZONE
TZID:America/Detroit
BEGIN:DAYLIGHT
TZOFFSETFROM:-0500
TZOFFSETTO:-0400
TZNAME:EDT
DTSTART:20240310T070000
END:DAYLIGHT
BEGIN:STANDARD
TZOFFSETFROM:-0400
TZOFFSETTO:-0500
TZNAME:EST
DTSTART:20241103T060000
END:STANDARD
BEGIN:DAYLIGHT
TZOFFSETFROM:-0500
TZOFFSETTO:-0400
TZNAME:EDT
DTSTART:20250309T070000
END:DAYLIGHT
BEGIN:STANDARD
TZOFFSETFROM:-0400
TZOFFSETTO:-0500
TZNAME:EST
DTSTART:20251102T060000
END:STANDARD
BEGIN:DAYLIGHT
TZOFFSETFROM:-0500
TZOFFSETTO:-0400
TZNAME:EDT
DTSTART:20260308T070000
END:DAYLIGHT
BEGIN:STANDARD
TZOFFSETFROM:-0400
TZOFFSETTO:-0500
TZNAME:EST
DTSTART:20261101T060000
END:STANDARD
BEGIN:DAYLIGHT
TZOFFSETFROM:-0500
TZOFFSETTO:-0400
TZNAME:EDT
DTSTART:20270314T070000
END:DAYLIGHT
BEGIN:STANDARD
TZOFFSETFROM:-0400
TZOFFSETTO:-0500
TZNAME:EST
DTSTART:20271107T060000
END:STANDARD
END:VTIMEZONE
BEGIN:VEVENT
DTSTART;TZID=America/Detroit:20250322T110000
DTEND;TZID=America/Detroit:20250322T130000
DTSTAMP:20260424T100432
CREATED:20250309T221753Z
LAST-MODIFIED:20250309T221753Z
UID:10000004-1742641200-1742648400@gathernatural.org
SUMMARY:Community Seed Swap 2025
DESCRIPTION:Join us for our second Community Seed Swap and come chat garden with our expert Keely 👩‍🌾\n\nWith a generous selection and hundreds of seed packets available for the taking\, this is your chance to bring home all the seeds you need to start this years garden! 🪴\n\nOur friends at Shaded Bloom Coffee have generously sponsored a coffee bar for us to enjoy! So whether you’re a seasoned gardener or a novice\, all are welcome to come gather\, grab some seeds and enjoy a hot cup of our favorite locally roasted coffee ☕️\n\nSee you on March 22nd!\n\n🪴 ☕️ 🦋 🤝\n\nNo RSVP required\n\nNOTE: Our building is in an office park\, unmarked\, and on the second floor. There will be Gather Natural yard signs at the road entrance and a large\, easily identifiable GN flag out at our building.
URL:https://gathernatural.org/event/community-seed-swap-2025/
LOCATION:Office\, 950 Stephenson Hwy.\, Troy\, MI\, 48083\, United States
ATTACH;FMTTYPE=image/jpeg:https://gathernatural.org/wp-content/uploads/2024/03/seeds-swap.jpg
END:VEVENT
BEGIN:VEVENT
DTSTART;TZID=America/Detroit:20250412T110000
DTEND;TZID=America/Detroit:20250412T150000
DTSTAMP:20260424T100432
CREATED:20250311T211612Z
LAST-MODIFIED:20250411T024937Z
UID:10000005-1744455600-1744470000@gathernatural.org
SUMMARY:Dye-Free Easter Egg Hunt & Spring Family Festival
DESCRIPTION:Join Gather Natural for our 2nd annual dye-free Easter egg hunt and our first Spring Family Festival. \nThe Easter Bunny will be with us from 11am – 1pm\, so bring your camera and a smile! \n11am-3pm \n11am Check In \n11:45 Egg Hunt Begins \n12:00 Spring Festival Begins \nSpring Festival Ticket: \n\nBunny crown coloring\nSpring selfie station\nEaster egg magnet making\nBubble wonderland\nPin the tail on Peter Rabbit\nTemporary tattoo station\nCarrot ring toss\n\nBunny Trail Passport: Collect stamps around the Bunny Trail and show your completed passport for a chance to win the Kids Easter Basket prize! \nWe will contact winner to arrange prize winnings if your family is not present at time of drawing. \nWe invite you to bring a lunchbox and a blanket if you’re interested in enjoying a picnic with your family and friends during the fun! \nShaded Bloom Coffee Roasters and Earthy Botanical Mobile Bar will both be joining us. You are welcome to purchase their Locally Roasted Coffee Beverages and Organic Mocktails crafted with real ingredients. \nRachel Smaller Photography will be joining us to professionally photograph this event for Gather Natural Community Inc.’s usage. \nSee you April 12th for an afternoon of family fun and better choice treats for your children!  \n  \nEvent is held rain or shine. Tickets are non-refundable.
URL:https://gathernatural.org/event/dye-free-easter-egg-hunt-spring-family-festival/
LOCATION:Camp Rotary\, 20505 29 Mile Rd\, Ray\, MI\, 48096\, United States
ATTACH;FMTTYPE=image/jpeg:https://gathernatural.org/wp-content/uploads/2025/03/egg-hunt-banner.jpg
END:VEVENT
BEGIN:VEVENT
DTSTART;TZID=America/Detroit:20260328T110000
DTEND;TZID=America/Detroit:20260328T130000
DTSTAMP:20260424T100432
CREATED:20260301T204930Z
LAST-MODIFIED:20260328T121757Z
UID:10000006-1774695600-1774702800@gathernatural.org
SUMMARY:2026 Dye-Free Easter Egg Hunt
DESCRIPTION:Join Gather Natural for our 3rd Annual Dye-Free (and Organic) Easter Egg Hunt\, proudly sponsored by Good Grounds Coffee Company! \n\nEgg hunt begins promptly at 12:00 PM – please arrive a little early so you don’t miss the start.\nWe will have yard games as well as arts and crafts for all to enjoy!\nStop by Good Grounds Coffee (126 N Main St\, Almont\, MI 48003) before or after the event and show your ticket for a Free Organic Baked Good\nPlease bring your own snacks and drinks to the park as we will not have any vendors on site for this event.\nThe Easter Bunny will be joining us – bring your camera and a smile for photos!\nWe’ll wrap up with a gift basket raffle at the end. One raffle ticket is included with your admission; additional tickets are available to help support our mission.\n\nRain or shine. Tickets are non-refundable. \nEvent Parking Map
URL:https://gathernatural.org/event/2026-dye-free-easter-egg-hunt/
LOCATION:Almont Community Park\, 290 Water St\, Almont\, MI\, 48003\, United States
ATTACH;FMTTYPE=image/jpeg:https://gathernatural.org/wp-content/uploads/2025/03/egg-hunt-banner.jpg
END:VEVENT
BEGIN:VEVENT
DTSTART;TZID=America/Detroit:20260509T090000
DTEND;TZID=America/Detroit:20260509T150000
DTSTAMP:20260424T100432
CREATED:20260310T192937Z
LAST-MODIFIED:20260422T210625Z
UID:10000007-1778317200-1778338800@gathernatural.org
SUMMARY:2026 Annual Mother’s Day Market
DESCRIPTION:Join Gather Natural Community Inc and Good Grounds Coffee Company for a special Mother’s Day Market celebrating mothers\, community\, and local small businesses. Held on May 9 from 9:00 a.m. to 3:00 p.m. in Almont\, this free event will feature a wide variety of local vendors offering handcrafted gifts\, wellness items\, flowers\, baked goods\, apparel\, and more. The market is a perfect way to shop local and find meaningful Mother’s Day gifts. \n\n\n\nWellness\, health\, and body care\n\n\n\nJacquelynn Arnold Craniosacral Fasical Therapy LLC\nCraniosacral fascial therapy for infants\, children\, and adults\n\n\nAdjusting to Health\nChiropractic care\, rehab\, pelvic floor\, sports/pediatric/perinatal care\, supplements and wellness products\n\n\nMother Bloom Collective\nHomeopathy remedies\, kits\, and blends for women and families\n\n\nRadiant Roots Chiropractic\nPerinatal\, pediatric\, and family chiropractic\, cupping\, functional medicine\n\n\nLand of Milk and Babies\nLactation consulting\, postpartum/breastfeeding classes\, craniosacral therapy\, themed apparel\n\n\nChildren’s Health Defense Michigan\nNonprofit advocacy focused on children’s health and reducing toxic exposure\n\n\n\n\n\n\nSkincare\, soaps\, and personal care\n\n\n\nTAKE KAYR\nOrganic/non-toxic skin and hair care\, oils\, whipped tallow\, balms\, moisturizing sticks\n\n\nWhite Cedar Spa\nOrganic lip balms and soy candles\n\n\nSunset Meadows MI\nHandcrafted goat milk soaps\n\n\nTallow Me Pretty\nTallow-based moisturizers\, balms\, creams\, soaps\, and lip balms\n\n\nFlag + Field\nTallow-based skincare including balms\, whips\, soaps\, and lip balms\n\n\nWiildhomestead & kaya wellness\nHomestead goods plus CBD lotions and wellness items\n\n\n\n\n\n\nFood\, beverages\, and farm products\n\n\n\nLabrie Farm LLC\nHoney\, maple syrup\, fry pies\, and farm meats\n\n\ni.e.Kawa Cacao\nPremium cacao bars\, ceremonial cacao\, cacao blends\, and education about cacao\n\n\nCourtney Bakes\nGluten-free and allergy-friendly baked goods including cookies\, donuts\, muffins\, brownies\, and more\n\n\nNatalie’s Naturals\nOrganic elderberry immunity syrup\n\n\nThe Grazing Life\nPasture-raised\, organically fed chicken\, eggs\, pork\, and related farm goods\n\n\nStibich Farm\nEggs\, jam\, vanilla products\, seed packets\, flowers\, aloe\, herbs\, and handmade egg accessories\n\n\nWiildhomestead & Kaya Wellness\nEggs\, honey\, vanilla\, sourdough starter\, canned goods\, and plants\n\n\n\n\n\n\nFlowers\, plants\, and garden\n\n\n\nBek’s Beautiful Blooms\nFresh and artificial flower arrangements\n\n\nEndress Acres\nCut flower farm products\n\n\nFence Post Flower Farm\nSeed packets and simple home planting kits\n\n\nStone Oak Farm\nFarm-fresh flowers\, especially seasonal blooms\n\n\nRegenia\nHandmade goods and plants\n\n\n\n\n\n\nJewelry and accessories\n\n\n\nWild Bliss Beads\nHandmade bracelets\n\n\nGem State of Mind Designs\nHandcrafted silver jewelry\, stone jewelry\, upcycled china jewelry\, custom “Gem Bar”\n\n\nUndina Designs\nHandmade polymer clay earrings\n\n\nBella bracelets llc\nCharm bar and 14k gold-filled beaded bracelets\n\n\nGraceful Designs\nHand-cut stone necklaces and earrings\, plus bookmarks and keychains\n\n\n\n\n\n\nCeramics\, pottery\, and functional art\n\n\n\nCLAYCO ceramics\nHandmade kitchenware and home decor such as mugs\, bowls\, vases\, and dishes\n\n\nKen’s Clay\nHand-built pottery\, ceramic bouquets\, bowls\, trinkets\, and jewelry dishes\n\n\n\n\n\n\nApparel\, sewn goods\, and textiles\n\n\n\nIndie Go Thrift\nCurated secondhand/vintage clothing\, handmade goods\, and upcycled thrifted items\n\n\nSheets in the Wind\nUpcycled clothing and bags made from secondhand materials\n\n\nRiseabove Apparel\nAthletic apparel including hats\, shorts\, hoodies\, shirts\, and leggings\n\n\nStitched With Love MI LLC\nEmbroidered apparel and accessories\, including custom embroidery\n\n\nThe Daily Doula Co\nPrinted apparel and lifestyle goods for moms\, doulas\, midwives\, and homesteading/faith audiences\n\n\nC+L Thread Co.\nReusable fabric kitchen goods\, aprons\, bowl covers\, and sewn household items\n\n\nSarah Pelech Creations\nHandmade purses and wallets\n\n\nJuli Stewart\nVinyl bags\, small purses\, notebooks\, and chapstick holders\n\n\nPine Row Farm\nPlants\, antiques\, bags\, and home decor\n\n\n\n\n\n\nCrochet\, plush\, and handmade gift items\n\n\n\nLove & Loops Crochet\nCrochet plushies\, accessories\, keychains\, and beginner crochet kits\n\n\nOur Berkshire Boutique\nHandmade crochet and sewn stuffed animals\, purses\, bows\, and similar items\n\n\nDot’s Treasures\nCrochet animals\, decorated jewelry boxes\, and small antiques\n\n\n\n\n\n\nHome goods\, decor\, and sustainable household items\n\n\n\nPlentiful plaids\nReusable paper towels\, aprons\, and upcycled accessories\n\n\nPine Row Farm\nHandmade bags\, antiques\, plants\, and home decor\n\n\nC+L Thread Co.\nReusable home textiles and kitchen accessories\n\n\n\n\n\n\nBooks\, art\, and specialty crafts\n\n\n\nJLo Books\nChildren’s books\n\n\nFaded Fields Art\nOriginal watercolor paintings\, framed art\, reproductions\, and mini art pieces\n\n\nGrace henna\nHenna tattoos
URL:https://gathernatural.org/event/2026-annual-mothers-market/
LOCATION:Good Grounds Coffee Company\, 126 N Main St\, Almont\, MI\, 48003
ATTACH;FMTTYPE=image/jpeg:https://gathernatural.org/wp-content/uploads/2026/03/mothers-market.jpg
END:VEVENT
END:VCALENDAR